BEGIN:VCALENDAR
VERSION:2.0
PRODID:-//The Actors&#039; Hub - ECPv5.0.2.1//NONSGML v1.0//EN
CALSCALE:GREGORIAN
METHOD:PUBLISH
X-WR-CALNAME:The Actors&#039; Hub
X-ORIGINAL-URL:https://actorshubperth.com.au
X-WR-CALDESC:Events for The Actors&#039; Hub
BEGIN:VTIMEZONE
TZID:Australia/Perth
BEGIN:STANDARD
TZOFFSETFROM:+0800
TZOFFSETTO:+0800
TZNAME:AWST
DTSTART:20190101T000000
END:STANDARD
END:VTIMEZONE
BEGIN:VEVENT
DTSTART;TZID=Australia/Perth:20191201T170000
DTEND;TZID=Australia/Perth:20191201T190000
DTSTAMP:20200301T191852
CREATED:20190708T064438Z
LAST-MODIFIED:20191127T044811Z
UID:3540-1575219600-1575226800@actorshubperth.com.au
SUMMARY:Gap 2s and 3s present Film Night
DESCRIPTION:In the final Lab of the year\, Gap 2 and Gap 3\, students after learning and developing the skills and techniques behind film-making\, both behind and in front of the camera\, will present the amazing film that they devised and created.. \n
URL:https://actorshubperth.com.au/event/2019-film-night/
LOCATION:The Actors’ Hub\, 129 Kensington Street\, East Perth\, WA\, 6004\, Australia
CATEGORIES:Lab
ATTACH;FMTTYPE=image/jpeg:https://actorshubperth.com.au/wp-content/uploads/2018/10/filming-KYE.jpg
END:VEVENT
END:VCALENDAR