BEGIN:VCALENDAR
VERSION:2.0
PRODID:-//The Actors&#039; Hub - ECPv5.0.2.1//NONSGML v1.0//EN
CALSCALE:GREGORIAN
METHOD:PUBLISH
X-WR-CALNAME:The Actors&#039; Hub
X-ORIGINAL-URL:https://actorshubperth.com.au
X-WR-CALDESC:Events for The Actors&#039; Hub
BEGIN:VTIMEZONE
TZID:Australia/Perth
BEGIN:STANDARD
TZOFFSETFROM:+0800
TZOFFSETTO:+0800
TZNAME:AWST
DTSTART:20190101T000000
END:STANDARD
END:VTIMEZONE
BEGIN:VEVENT
DTSTART;VALUE=DATE:20191209
DTEND;VALUE=DATE:20191214
DTSTAMP:20200301T192233
CREATED:20191014T060724Z
LAST-MODIFIED:20191108T095112Z
UID:4110-1575849600-1576281599@actorshubperth.com.au
SUMMARY:Auditions for 2020 Gap
DESCRIPTION:Auditions  for 2020 Gap program – second week\nThe Gap course has been created to bridge the gap into the industry. It includes: \n\nExpert training in stage\, screen and musical theatre skills.\nPerformance opportunities and real feedback.\nRange of styles\, for all types of acting roles.\nOpportunities to consult with industry professionals & attend industry events.\n\nFor more information about the Gap course\, see the webpage:\nhttps://actorshubperth.com.au/bridging-the-gap/ \nFor information about the audition see:\nhttps://actorshubperth.com.au/gap-2020-auditions/ \nTo book your audition:\nhttps://theactorshub.as.me/GapAuditions \n
URL:https://actorshubperth.com.au/event/auditions-for-2020-2/
LOCATION:The Actors’ Hub\, 129 Kensington Street\, East Perth\, WA\, 6004\, Australia
CATEGORIES:Audition
ATTACH;FMTTYPE=image/jpeg:https://actorshubperth.com.au/wp-content/uploads/2019/11/Gap-Flyer-image-small-e1574162301295.jpg
ORGANIZER;CN="The%20Actors%27%20Hub%20Australia":MAILTO:info@actorshubperth.com.au
END:VEVENT
END:VCALENDAR